BEGIN:VCALENDAR
VERSION:2.0
PRODID:-//ChamberMaster//Event Calendar 2.0//EN
METHOD:PUBLISH
X-PUBLISHED-TTL:P3D
REFRESH-INTERVAL:P3D
CALSCALE:GREGORIAN
BEGIN:VEVENT
DTSTART:20191112T150000Z
DTEND:20191112T180000Z
X-MICROSOFT-CDO-ALLDAYEVENT:FALSE
SUMMARY:Dunn County Job Fair
DESCRIPTION:Staffing agencies\, direct hire employers and Workforce Resource representative on site to assist with job search efforts! This event is open to the public!
X-ALT-DESC;FMTTYPE=text/html:Staffing agencies\, direct hire employers and Workforce Resource representative on site to assist with job search efforts! This event is open to the public!
LOCATION:Dunn County Judicial Center 615 Stokke Parkway Menomonie\, WI 54751
UID:e.64.27188
SEQUENCE:3
DTSTAMP:20260425T115144Z
URL:https://menomonie-gzcms.preview.gochambermaster.com/events/details/dunn-county-job-fair-11-12-2019-27188
END:VEVENT

END:VCALENDAR
