BEGIN:VCALENDAR
VERSION:2.0
PRODID:-//ChamberMaster//Event Calendar 2.0//EN
METHOD:PUBLISH
X-PUBLISHED-TTL:P3D
REFRESH-INTERVAL:P3D
CALSCALE:GREGORIAN
BEGIN:VEVENT
DTSTART:20211204T160000Z
DTEND:20211204T173000Z
X-MICROSOFT-CDO-ALLDAYEVENT:FALSE
SUMMARY:Edible History
DESCRIPTION:In this make-along class co-hosted by the Rassbach Museum and the Menomonie Market Food Co-op\, you'll learn how to make and preserve a pomander -- a beautiful smelling\, historic air freshener that has bee used throughout much of history\, and was a popular gift during the Victorian era. Make your home smell lovely\, or give them as a sophisticated gift!  While you make your pomander\, there will be a presentation about their long history.
X-ALT-DESC;FMTTYPE=text/html:<span style="color:rgb(31\, 38\, 52)\; font-family:georgia\,palatino\,book antiqua\,palatino linotype\,serif\; font-size:14px">In this make-along class co-hosted by the Rassbach Museum and the Menomonie Market Food Co-op\, you&#39\;ll learn how to make and preserve a pomander -- a beautiful smelling\, historic air freshener that has bee used throughout much of history\, and was a popular gift during the Victorian era. Make your home smell lovely\, or give them as a sophisticated gift!&nbsp\; While you make your pomander\, there will be a presentation about their long history.&nbsp\;</span>
LOCATION:Note: Project kits will be available at the Menomonie Market Food Co-op in advance. Classes at the Rassbach Museum.
UID:e.64.32892
SEQUENCE:3
DTSTAMP:20260422T232111Z
URL:https://menomonie-gzcms.preview.gochambermaster.com/events/details/edible-history-32892
END:VEVENT

END:VCALENDAR
