BEGIN:VCALENDAR
VERSION:2.0
PRODID:-//ChamberMaster//Event Calendar 2.0//EN
METHOD:PUBLISH
X-PUBLISHED-TTL:P3D
REFRESH-INTERVAL:P3D
CALSCALE:GREGORIAN
BEGIN:VEVENT
DTSTART:20220912T210000Z
DTEND:20220913T000000Z
X-MICROSOFT-CDO-ALLDAYEVENT:FALSE
SUMMARY:Emergency Service Open House
DESCRIPTION:Join us on Monday\, September 12\, from 4   7 p.m. as we showcase our newly expanded and remodeled CVTC Emergency Service Education Center! Explore state-of-the-art simulation labs\, tactical training spaces\, and firing ranges\, and learn how they will better serve CVTC students and our community police\, fire\, and emergency medical service professionals. Attend the Emergency Service Open House to: Explore the newly added and updated training spaces Get a first-hand look at our programs Experience hands-on demonstrations Sign up for door prizes and a grand prize drawing Most importantly\, have fun! Make plans to attend this exciting event at the CVTC Emergency Service Education Center! Visit cvtc.edu/ESEC to learn more.
X-ALT-DESC;FMTTYPE=text/html:Join us on Monday\, September 12\, from 4 &ndash\; 7 p.m. as we showcase our newly expanded and remodeled CVTC Emergency Service Education Center! Explore state-of-the-art simulation labs\, tactical training spaces\, and firing ranges\, and learn how they will better serve CVTC students and our community police\, fire\, and emergency medical service professionals. Attend the Emergency Service Open House to: Explore the newly added and updated training spaces Get a first-hand look at our programs Experience hands-on demonstrations Sign up for door prizes and a grand prize drawing Most importantly\, have fun! Make plans to attend this exciting event at the CVTC Emergency Service Education Center! Visit cvtc.edu/ESEC to learn more.
LOCATION:CVTC Emergency Service Education Center 3623 Campus Road Eau Claire\, WI 54703
UID:e.64.34574
SEQUENCE:3
DTSTAMP:20260421T235320Z
URL:https://menomonie-gzcms.preview.gochambermaster.com/events/details/emergency-service-open-house-34574
END:VEVENT

END:VCALENDAR
