BEGIN:VCALENDAR
VERSION:2.0
PRODID:-//ChamberMaster//Event Calendar 2.0//EN
METHOD:PUBLISH
X-PUBLISHED-TTL:P3D
REFRESH-INTERVAL:P3D
CALSCALE:GREGORIAN
BEGIN:VEVENT
DTSTART:20220326T160000Z
DTEND:20220326T190000Z
X-MICROSOFT-CDO-ALLDAYEVENT:FALSE
SUMMARY:Empty Bowls 2022
DESCRIPTION:Drive-Through Lunch fundraiser: Online tickets are on sale for lunch to go   bowl of delicious soup\, dinner roll and dessert   with a special thank you surprise inside each bag. Handcrafted bowls on display for those who choose the $20 lunch-with-bowl option. Order before 5 p.m. on Thursday\, March 24   no orders can be accepted after that time   visit www.steppingstonesdc.org!
X-ALT-DESC;FMTTYPE=text/html:Drive-Through Lunch fundraiser: Online tickets are on sale for lunch to go &mdash\; bowl of delicious soup\, dinner roll and dessert &mdash\; with a special thank you surprise inside each bag. Handcrafted bowls on display for those who choose the $20 lunch-with-bowl option. Order before 5 p.m. on Thursday\, March 24 &mdash\; no orders can be accepted after that time &mdash\; visit www.steppingstonesdc.org!
LOCATION:Menomonie High School 1715 Fifth St. West Menomonie
UID:e.64.33397
SEQUENCE:3
DTSTAMP:20260422T124950Z
URL:https://menomonie-gzcms.preview.gochambermaster.com/events/details/empty-bowls-2022-33397
END:VEVENT

END:VCALENDAR
