BEGIN:VCALENDAR
VERSION:2.0
PRODID:-//ChamberMaster//Event Calendar 2.0//EN
METHOD:PUBLISH
X-PUBLISHED-TTL:P3D
REFRESH-INTERVAL:P3D
CALSCALE:GREGORIAN
BEGIN:VEVENT
DTSTART:20210807T130000Z
DTEND:20210807T180000Z
X-MICROSOFT-CDO-ALLDAYEVENT:FALSE
SUMMARY:Empty Bowls summer sale
DESCRIPTION:'Empty Bowls' summer sale returns to Menomonie Farmers Market in Wilson Park during August: Unique bowls\, handmade quilts and microwavable bowl cozies -- and Stepping Stones Discount Card ($10 each) featuring special discounts at 15 area businesses and restaurants.
X-ALT-DESC;FMTTYPE=text/html:&#39\;Empty Bowls&#39\; summer sale returns to Menomonie Farmers Market in Wilson Park during August: Unique bowls\, handmade quilts and microwavable bowl cozies -- and Stepping Stones Discount Card ($10 each) featuring special discounts at 15 area businesses and restaurants.
LOCATION:Menomonie Farmers Market\, Wilson Park
UID:e.64.32721
SEQUENCE:3
DTSTAMP:20260423T114250Z
URL:https://menomonie-gzcms.preview.gochambermaster.com/events/details/empty-bowls-summer-sale-32721
END:VEVENT

END:VCALENDAR
