BEGIN:VCALENDAR
VERSION:2.0
PRODID:-//ChamberMaster//Event Calendar 2.0//EN
METHOD:PUBLISH
X-PUBLISHED-TTL:P3D
REFRESH-INTERVAL:P3D
CALSCALE:GREGORIAN
BEGIN:VEVENT
DTSTART:20191026T233000Z
DTEND:20191027T030000Z
X-MICROSOFT-CDO-ALLDAYEVENT:FALSE
SUMMARY:Euchre Tournament Fundraiser for Let's Go Fishing Menomonie
DESCRIPTION:Euchre Tournament to benefit Let's Go Fishing- Menomonie Area. They'll also have a meat raffle and other raffle prizes. All proceeds go to provide free boating and fishing trips for seniors and the disabled on Lake Menomin.
X-ALT-DESC;FMTTYPE=text/html:Euchre Tournament to benefit Let&#39\;s Go Fishing- Menomonie Area. They&#39\;ll also have a meat raffle and other raffle prizes. All proceeds go to provide free boating and fishing trips for seniors and the disabled on Lake Menomin.
LOCATION:Pioneer Grill & Saloon E5699 County Road D Menomonie\, WI 54751 Phone: (715) 235-9927
UID:e.64.27180
SEQUENCE:3
DTSTAMP:20260425T135813Z
URL:https://menomonie-gzcms.preview.gochambermaster.com/events/details/euchre-tournament-fundraiser-for-let-s-go-fishing-menomonie-27180
END:VEVENT

END:VCALENDAR
