BEGIN:VCALENDAR
VERSION:2.0
PRODID:-//ChamberMaster//Event Calendar 2.0//EN
METHOD:PUBLISH
X-PUBLISHED-TTL:P3D
REFRESH-INTERVAL:P3D
CALSCALE:GREGORIAN
BEGIN:VEVENT
DTSTART:20221020T150000Z
DTEND:20221021T010000Z
X-MICROSOFT-CDO-ALLDAYEVENT:FALSE
SUMMARY:Fall Ladies Night Out
DESCRIPTION:Celebrate fall with a fun evening out with your friends! Visit downtown Menomonie on Thursday\, October 20th\, 2022 for the popular event: Ladies Night Out. Come as yourself or dressed for Halloween!\nWhether you are interested in boutiques\, locally made artisan items\, antiques\, an independent book seller\, games\, visiting a spa\, sports apparel\, or finding the perfect meal\; we have it in downtown Menomonie.\nEnter to win nearly $1\,000 in prizes by visiting participating locations!
X-ALT-DESC;FMTTYPE=text/html:Celebrate fall with a fun evening out with your friends! Visit downtown Menomonie on Thursday\, October 20th\, 2022 for the popular event: Ladies Night Out. Come as yourself or dressed for Halloween!\nWhether you are interested in boutiques\, locally made artisan items\, antiques\, an independent book seller\, games\, visiting a spa\, sports apparel\, or finding the perfect meal\; we have it in downtown Menomonie.\nEnter to win nearly $1\,000 in prizes by visiting participating locations!
LOCATION:Downtown Menomonie
UID:e.64.34634
SEQUENCE:3
DTSTAMP:20260421T181203Z
URL:https://menomonie-gzcms.preview.gochambermaster.com/events/details/fall-ladies-night-out-34634
END:VEVENT

END:VCALENDAR
