BEGIN:VCALENDAR
VERSION:2.0
PRODID:-//ChamberMaster//Event Calendar 2.0//EN
METHOD:PUBLISH
X-PUBLISHED-TTL:P3D
REFRESH-INTERVAL:P3D
CALSCALE:GREGORIAN
BEGIN:VEVENT
DTSTART:20210828T150000Z
DTEND:20210828T180000Z
X-MICROSOFT-CDO-ALLDAYEVENT:FALSE
SUMMARY:Family Movie Mornings August 28
DESCRIPTION:Alcohol Free Events at the Mabel Tainter Center for the Arts\n\n10 AM August 28th   Homeward Bound\n\nFree Summer Movies at the Mabel Tainter Theater. All children MUST be accompanied by an adult. Limit to the first 75 people. Free snacks!\n\nAny Questions? Email jvoss@arborplaceince.org\n\nMabel Tainter | Dunn County Partnership for Youth | Arbor Place
X-ALT-DESC;FMTTYPE=text/html:<p style="box-sizing: border-box\; margin: 0px 0px 30px\; color: rgb(0\, 113\, 72)\; font-size: 14px\; line-height: 1.8\; font-family: Montserrat\, -apple-system\, BlinkMacSystemFont\, &quot\;Segoe UI&quot\;\, Roboto\, sans-serif\;">Alcohol Free Events at the Mabel Tainter Center for the Arts</p>\n\n<p style="box-sizing: border-box\; margin: 0px 0px 30px\; color: rgb(0\, 113\, 72)\; font-size: 14px\; line-height: 1.8\; font-family: Montserrat\, -apple-system\, BlinkMacSystemFont\, &quot\;Segoe UI&quot\;\, Roboto\, sans-serif\;"><span style="color: rgb(0\, 113\, 72)\; font-family: Montserrat\, -apple-system\, BlinkMacSystemFont\, &quot\;Segoe UI&quot\;\, Roboto\, sans-serif\; font-size: 14px\;">10 AM August 28th &ndash\; Homeward Bound</span></p>\n\n<p style="box-sizing: border-box\; margin: 0px 0px 30px\; color: rgb(0\, 113\, 72)\; font-size: 14px\; line-height: 1.8\; font-family: Montserrat\, -apple-system\, BlinkMacSystemFont\, &quot\;Segoe UI&quot\;\, Roboto\, sans-serif\;">Free Summer Movies at the Mabel Tainter Theater. All children MUST be accompanied by an adult. Limit to the first 75 people. Free snacks!</p>\n\n<p style="box-sizing: border-box\; margin: 0px 0px 30px\; color: rgb(0\, 113\, 72)\; font-size: 14px\; line-height: 1.8\; font-family: Montserrat\, -apple-system\, BlinkMacSystemFont\, &quot\;Segoe UI&quot\;\, Roboto\, sans-serif\;">Any Questions? Email jvoss@arborplaceince.org</p>\n\n<p style="box-sizing: border-box\; margin: 0px 0px 30px\; color: rgb(0\, 113\, 72)\; font-size: 14px\; line-height: 1.8\; font-family: Montserrat\, -apple-system\, BlinkMacSystemFont\, &quot\;Segoe UI&quot\;\, Roboto\, sans-serif\;">Mabel Tainter | Dunn County Partnership for Youth | Arbor Place</p>\n
LOCATION:Mabel Tainter 205 Main Street East Menomonie WI 54751
UID:e.64.32281
SEQUENCE:3
DTSTAMP:20260423T104445Z
URL:https://menomonie-gzcms.preview.gochambermaster.com/events/details/family-movie-mornings-august-28-32281
END:VEVENT

END:VCALENDAR
