BEGIN:VCALENDAR
VERSION:2.0
PRODID:-//ChamberMaster//Event Calendar 2.0//EN
METHOD:PUBLISH
X-PUBLISHED-TTL:P3D
REFRESH-INTERVAL:P3D
CALSCALE:GREGORIAN
BEGIN:VEVENT
DTSTART:20210919T163000Z
DTEND:20210919T180000Z
X-MICROSOFT-CDO-ALLDAYEVENT:FALSE
SUMMARY:Flannel Fest
DESCRIPTION:Visit www.flannelfest.fun for details. You won't want to miss this event. We will be hosting a day full of fun\, including Dunn County's largest MARSHMALLOW FIGHT! Join us for Live Music\, Metal Casting\, Lumberjack games\, Log rolling and more! Invite your friends\, bring your neighbors.
X-ALT-DESC;FMTTYPE=text/html:Visit www.flannelfest.fun for details. You won&#39\;t want to miss this event. We will be hosting a day full of fun\, including Dunn County&#39\;s largest MARSHMALLOW FIGHT! Join us for Live Music\, Metal Casting\, Lumberjack games\, Log rolling and more! Invite your friends\, bring your neighbors.
LOCATION:Cedarbrook Church N6714 470th St Menomonie\, WI 54751
UID:e.64.32778
SEQUENCE:3
DTSTAMP:20260423T041612Z
URL:https://menomonie-gzcms.preview.gochambermaster.com/events/details/flannel-fest-32778
END:VEVENT

END:VCALENDAR
