BEGIN:VCALENDAR
VERSION:2.0
PRODID:-//ChamberMaster//Event Calendar 2.0//EN
METHOD:PUBLISH
X-PUBLISHED-TTL:P3D
REFRESH-INTERVAL:P3D
CALSCALE:GREGORIAN
BEGIN:VEVENT
DTSTART:20210710T150000Z
DTEND:20210710T190000Z
X-MICROSOFT-CDO-ALLDAYEVENT:FALSE
SUMMARY:Fleet Farm Kid's Fishing Day
DESCRIPTION:Stop by any Fleet Farm location on Saturday\, July 10th\, 2021 from 10am-2pm LOCAL TIME.\n\nLearn about:\n\n  Knot tying\n\n  Fishing safety\n\n  Live bait\n\n  Fish identification\n\n  Types of fishing line\n\n  Proper life vest fittings\n\n  Casting with rod & reel combos\n\nFUN\, GAMES & MORE!\n\nFind a store near you: https://www.fleetfarm.com/sitewide/storeLocator.jsp\n\n \n\nENTER TO WIN:\n\nPrint off this FREE Kid's Fishing Day coloring page & color in for a chance to WIN a Fleet Farm gift card!*: \n\n*Complete & return to your local Fleet Farm Customer Service desk by July 25th\, 2021 to be entered to WIN one of three Fleet Farm gift cards per store.
X-ALT-DESC;FMTTYPE=text/html:<div class="o9v6fnle cxmmr5t8 oygrvhab hcukyx3x c1et5uql" style="overflow-wrap: break-word\; margin: 0.5em 0px 0px\; font-family: &quot\;Segoe UI Historic&quot\;\, &quot\;Segoe UI&quot\;\, Helvetica\, Arial\, sans-serif\; color: rgb(5\, 5\, 5)\; font-size: 15px\;">Stop by any Fleet Farm location on Saturday\, July 10th\, 2021 from 10am-2pm LOCAL TIME.</div>\n\n<div class="o9v6fnle cxmmr5t8 oygrvhab hcukyx3x c1et5uql" style="overflow-wrap: break-word\; margin: 0.5em 0px 0px\; font-family: &quot\;Segoe UI Historic&quot\;\, &quot\;Segoe UI&quot\;\, Helvetica\, Arial\, sans-serif\; color: rgb(5\, 5\, 5)\; font-size: 15px\;">Learn about:<br />\n&bull\; Knot tying<br />\n&bull\; Fishing safety<br />\n&bull\; Live bait<br />\n&bull\; Fish identification<br />\n&bull\; Types of fishing line<br />\n&bull\; Proper life vest fittings<br />\n&bull\; Casting with rod &amp\; reel combos<br />\nFUN\, GAMES &amp\; MORE!</div>\n\n<div class="o9v6fnle cxmmr5t8 oygrvhab hcukyx3x c1et5uql" style="overflow-wrap: break-word\; margin: 0.5em 0px 0px\; font-family: &quot\;Segoe UI Historic&quot\;\, &quot\;Segoe UI&quot\;\, Helvetica\, Arial\, sans-serif\; color: rgb(5\, 5\, 5)\; font-size: 15px\;">Find a store near you:&nbsp\;<a class="oajrlxb2 g5ia77u1 qu0x051f esr5mh6w e9989ue4 r7d6kgcz rq0escxv nhd2j8a9 nc684nl6 p7hjln8o kvgmc6g5 cxmmr5t8 oygrvhab hcukyx3x jb3vyjys rz4wbd8a qt6c0cv9 a8nywdso i1ao9s8h esuyzwwr f1sip0of lzcic4wl py34i1dx gpro0wi8" href="https://www.fleetfarm.com/sitewide/storeLocator.jsp?fbclid=IwAR1_ByrYjKrjKMM7Uh3RlvScer_W5JTuJBrr6HGPoy_s8dmgiui65BazzHg" rel="nofollow noopener" role="link" style="color: var(--blue-link)\; cursor: pointer\; text-decoration-line: none\; outline: none\; list-style: none\; border-width: 0px\; border-style: initial\; border-color: initial\; padding: 0px\; margin: 0px\; touch-action: manipulation\; background-color: transparent\; text-align: inherit\; display: inline\; -webkit-tap-highlight-color: transparent\; box-sizing: border-box\; font-family: inherit\;" tabindex="0" target="_blank">https://www.fleetfarm.com/sitewide/storeLocator.jsp</a></div>\n\n<div class="o9v6fnle cxmmr5t8 oygrvhab hcukyx3x c1et5uql" style="overflow-wrap: break-word\; margin: 0.5em 0px 0px\; font-family: &quot\;Segoe UI Historic&quot\;\, &quot\;Segoe UI&quot\;\, Helvetica\, Arial\, sans-serif\; color: rgb(5\, 5\, 5)\; font-size: 15px\;">&nbsp\;</div>\n\n<div class="o9v6fnle cxmmr5t8 oygrvhab hcukyx3x c1et5uql" style="overflow-wrap: break-word\; margin: 0.5em 0px 0px\; font-family: &quot\;Segoe UI Historic&quot\;\, &quot\;Segoe UI&quot\;\, Helvetica\, Arial\, sans-serif\; color: rgb(5\, 5\, 5)\; font-size: 15px\;">ENTER TO WIN:<br />\nPrint off this <a href="https://www.fleetfarm.com/images/static/2021-KidsFishingDayColoringPage.pdf?fbclid=IwAR3F4b6B7sbCCnnzf_ZZ-aOzZvnq_oWg05lHRK7tZNfeUk_E4UJvv5xsTpE">FREE Kid&#39\;s Fishing Day</a> coloring page &amp\; color in for a chance to WIN a Fleet Farm gift card!*:&nbsp\;</div>\n\n<div class="o9v6fnle cxmmr5t8 oygrvhab hcukyx3x c1et5uql" style="overflow-wrap: break-word\; margin: 0.5em 0px 0px\; font-family: &quot\;Segoe UI Historic&quot\;\, &quot\;Segoe UI&quot\;\, Helvetica\, Arial\, sans-serif\; color: rgb(5\, 5\, 5)\; font-size: 15px\;">*Complete &amp\; return to your local Fleet Farm Customer Service desk by July 25th\, 2021 to be entered to WIN one of three Fleet Farm gift cards per store.</div>\n
LOCATION:2003 U.S. Highway 12W Menomonie\, WI 54751
UID:e.64.32578
SEQUENCE:3
DTSTAMP:20260423T154923Z
URL:https://menomonie-gzcms.preview.gochambermaster.com/events/details/fleet-farm-kid-s-fishing-day-32578
END:VEVENT

END:VCALENDAR
