BEGIN:VCALENDAR
VERSION:2.0
PRODID:-//ChamberMaster//Event Calendar 2.0//EN
METHOD:PUBLISH
X-PUBLISHED-TTL:P3D
REFRESH-INTERVAL:P3D
CALSCALE:GREGORIAN
BEGIN:VEVENT
DTSTART:20230916T180000Z
DTEND:20230916T220000Z
X-MICROSOFT-CDO-ALLDAYEVENT:FALSE
SUMMARY:Furkin Fest 2023
DESCRIPTION:Join the Dunn County Humane Society and Jake's Supper Club for a great day of beer\, food\, entertainment and good company all to help DCHS! We will have the Cutaways playing all afternoon as well as a 50-50 board\, raffle baskets and auctions throughout the day\, so don't miss out!
X-ALT-DESC;FMTTYPE=text/html:Join the Dunn County Humane Society and Jake&#39\;s Supper Club for a great day of beer\, food\, entertainment and good company all to help DCHS! We will have the Cutaways playing all afternoon as well as a 50-50 board\, raffle baskets and auctions throughout the day\, so don&#39\;t miss out!
LOCATION:Jake's Supper Club - Tiki Deck E5690 Cty Rd D\, Menomonie
UID:e.64.34853
SEQUENCE:3
DTSTAMP:20260419T223404Z
URL:https://menomonie-gzcms.preview.gochambermaster.com/events/details/furkin-fest-2023-34853
END:VEVENT

END:VCALENDAR
