BEGIN:VCALENDAR
VERSION:2.0
PRODID:-//ChamberMaster//Event Calendar 2.0//EN
METHOD:PUBLISH
X-PUBLISHED-TTL:P3D
REFRESH-INTERVAL:P3D
CALSCALE:GREGORIAN
BEGIN:VEVENT
DTSTART:20190213T000000Z
DTEND:20190213T010000Z
X-MICROSOFT-CDO-ALLDAYEVENT:FALSE
SUMMARY:Garden Planning Workshop
DESCRIPTION:Curious about companion planting? Wanting to eat year-round from your garden? Learn from a life-long gardener bring a sketch of your garden and create a plan! Cost: $10 Instructor: Kathleen Plunkett-Black Kathleen is the owner of Plum Creek Seeds and has been gardening and seed saving for many years. She is a supplier of local seeds in the spring\, and is full of knowledge on all things gardening.
X-ALT-DESC;FMTTYPE=text/html:Curious about companion planting? Wanting to eat year-round from your garden? Learn from a life-long gardener&ndash\;bring a sketch of your garden and create a plan! Cost: $10 Instructor: Kathleen Plunkett-Black Kathleen is the owner of Plum Creek Seeds and has been gardening and seed saving for many years. She is a supplier of local seeds in the spring\, and is full of knowledge on all things gardening.
LOCATION:Menomonie Market 814 Main Street E
UID:e.64.26540
SEQUENCE:3
DTSTAMP:20260426T035341Z
URL:https://menomonie-gzcms.preview.gochambermaster.com/events/details/garden-planning-workshop-02-12-2019-26540
END:VEVENT

END:VCALENDAR
