BEGIN:VCALENDAR
VERSION:2.0
PRODID:-//ChamberMaster//Event Calendar 2.0//EN
METHOD:PUBLISH
X-PUBLISHED-TTL:P3D
REFRESH-INTERVAL:P3D
CALSCALE:GREGORIAN
BEGIN:VEVENT
DTSTART:20191028T231500Z
DTEND:20191029T003000Z
X-MICROSOFT-CDO-ALLDAYEVENT:FALSE
SUMMARY:Gentle Yoga
DESCRIPTION:Gentle Yoga provides all the benefits of the yoga experience at a slower and steadier pace.  It helps to reduce stress\, feel strong yet flexible in your body and increase positive energy.  Led by Reserve member Karen Wise\, Gentle Yoga will include instruction on how to do poses\, breathing techniques and relaxation practice.  Please dress in loose-fitting clothing\, bring a yoga mat or blanket to lie on the floor and a water bottle. Class dates subject to cancellation based on teacher?s availability. Registered participants will be notified in advance of any schedule changes.
X-ALT-DESC;FMTTYPE=text/html:Gentle Yoga provides all the benefits of the yoga experience at a slower and steadier pace.&nbsp\; It helps to reduce stress\, feel strong yet flexible in your body and increase positive energy.&nbsp\; Led by Reserve member Karen Wise\, Gentle Yoga will include instruction on how to do poses\, breathing&nbsp\;techniques&nbsp\;and relaxation practice.&nbsp\; Please dress in loose-fitting clothing\, bring a yoga mat or blanket to lie on the floor and a water bottle. Class dates subject to cancellation based on teacher?s availability. Registered participants will be notified in advance of any schedule changes.
LOCATION:Beaver Creek Reserve Wise Nature Center S1 Highway K Fall Creek\, WI 54742
UID:e.64.27074
SEQUENCE:3
DTSTAMP:20260425T130909Z
URL:https://menomonie-gzcms.preview.gochambermaster.com/events/details/gentle-yoga-10-28-2019-27074
END:VEVENT

END:VCALENDAR
