BEGIN:VCALENDAR
VERSION:2.0
PRODID:-//ChamberMaster//Event Calendar 2.0//EN
METHOD:PUBLISH
X-PUBLISHED-TTL:P3D
REFRESH-INTERVAL:P3D
CALSCALE:GREGORIAN
BEGIN:VEVENT
DTSTART:20190808T000000Z
DTEND:20190808T013000Z
X-MICROSOFT-CDO-ALLDAYEVENT:FALSE
SUMMARY:Giant Steps
DESCRIPTION:Fifty summers ago\, humans first made footprints on another world. Hear the story of how the Apollo astronauts journeyed to the Moon and what they discovered there. John Heasley is an experienced stargazer and astronomy educator with Driftless Stargazing LLC. He connects people with the cosmos with presentations for libraries\, schools\, and groups. He teaches and inspires people of all ages at UW-Richland\, Kickapoo Valley Reserve\, and Taliesin
X-ALT-DESC;FMTTYPE=text/html:Fifty summers ago\, humans first made footprints on another world. Hear the story of how the Apollo astronauts journeyed to the Moon and what they discovered there. John Heasley is an experienced stargazer and astronomy educator with Driftless Stargazing LLC. He connects people with the cosmos with presentations for libraries\, schools\, and groups. He teaches and inspires people of all ages at UW-Richland\, Kickapoo Valley Reserve\, and Taliesin
LOCATION:Menomonie Public Library 600 Wolske Bay Rd Menomonie
UID:e.64.26882
SEQUENCE:3
DTSTAMP:20260425T195429Z
URL:https://menomonie-gzcms.preview.gochambermaster.com/events/details/giant-steps-26882
END:VEVENT

END:VCALENDAR
