BEGIN:VCALENDAR
VERSION:2.0
PRODID:-//ChamberMaster//Event Calendar 2.0//EN
METHOD:PUBLISH
X-PUBLISHED-TTL:P3D
REFRESH-INTERVAL:P3D
CALSCALE:GREGORIAN
BEGIN:VEVENT
DTSTART;VALUE=DATE:20230624
DTEND;VALUE=DATE:20230625
TRANSP:TRANSPARENT
X-MICROSOFT-CDO-ALLDAYEVENT:TRUE
SUMMARY:Golf Scramble - Options for Women Menomonie
DESCRIPTION:http://friendsofwmenomonie.org/events
X-ALT-DESC;FMTTYPE=text/html:<a href="http://friendsofwmenomonie.org/events">http://friendsofwmenomonie.org/events</a>
LOCATION:Menomonie Golf & Country Club\, 802 Heller Rd\, Menomonie\, WI 54751
UID:e.64.34806
SEQUENCE:3
DTSTAMP:20260420T070039Z
URL:https://menomonie-gzcms.preview.gochambermaster.com/events/details/golf-scramble-options-for-women-menomonie-34806
END:VEVENT

END:VCALENDAR
