BEGIN:VCALENDAR
VERSION:2.0
PRODID:-//ChamberMaster//Event Calendar 2.0//EN
METHOD:PUBLISH
X-PUBLISHED-TTL:P3D
REFRESH-INTERVAL:P3D
CALSCALE:GREGORIAN
BEGIN:VEVENT
DTSTART:20220915T210000Z
DTEND:20220916T010000Z
X-MICROSOFT-CDO-ALLDAYEVENT:FALSE
SUMMARY:Great Community Cookout and Car Show
DESCRIPTION:Join us in Downtown Menomonie   Lot 6\, corner of Broadway and 6th ave\, across the street from The Raw Deal   for our 16th Annual Great Community Cookout and Car Show. Enjoy live music\, delicious food and drink\, a car show\, and fun games for the whole family! There will be a raffle\, proceeds benefitting Downtown Menomonie\, Inc. Music: Open Investigation Food Vendors: Ohana Pizza Company Menomonie Market Food Co-op Captain PJ's BBQ LLC Sailer's Food Market Drinks will be provided by Bill's Distributing. A huge thank you to our sponsors: ConAgra Brands - Stage Sponsor UW-Stout WESTconsin Credit Union Xcel Energy
X-ALT-DESC;FMTTYPE=text/html:Join us in Downtown Menomonie &ndash\; Lot 6\, corner of Broadway and 6th ave\, across the street from The Raw Deal &ndash\; for our 16th Annual Great Community Cookout and Car Show. Enjoy live music\, delicious food and drink\, a car show\, and fun games for the whole family! There will be a raffle\, proceeds benefitting Downtown Menomonie\, Inc. Music: Open Investigation Food Vendors: Ohana Pizza Company Menomonie Market Food Co-op Captain PJ&rsquo\;s BBQ LLC Sailer&rsquo\;s Food Market Drinks will be provided by Bill&rsquo\;s Distributing. A huge thank you to our sponsors: ConAgra Brands - Stage Sponsor UW-Stout WESTconsin Credit Union Xcel Energy
LOCATION:Downtown Parking Lot #6\, the corner of Broadway and 6th Avenue Downtown Menomonie\, Wisconsin
UID:e.64.34576
SEQUENCE:3
DTSTAMP:20260421T153824Z
URL:https://menomonie-gzcms.preview.gochambermaster.com/events/details/great-community-cookout-and-car-show-34576
END:VEVENT

END:VCALENDAR
