BEGIN:VCALENDAR
VERSION:2.0
PRODID:-//ChamberMaster//Event Calendar 2.0//EN
METHOD:PUBLISH
X-PUBLISHED-TTL:P3D
REFRESH-INTERVAL:P3D
CALSCALE:GREGORIAN
BEGIN:VEVENT
DTSTART:20190208T000000Z
DTEND:20190208T010000Z
X-MICROSOFT-CDO-ALLDAYEVENT:FALSE
SUMMARY:Healthy Cooking on a Budget
DESCRIPTION:Learn to make a simple and healthy roasted chicken and veggie dinner. Enjoy samples\, learn how to cut a whole chicken\, take home recipes\, and gain knowledge on ways to eat a little healthier this year. Cost: $10 Instructor: Tony Rojas Tony is the Member Experience Manager at Anytime Fitness in Menomonie and is passionate about healthy eating\, simple recipes\, and wellness!
X-ALT-DESC;FMTTYPE=text/html:Learn to make a simple and healthy roasted chicken and veggie dinner. Enjoy samples\, learn how to cut a whole chicken\, take home recipes\, and gain knowledge on ways to eat a little healthier this year. Cost: $10 Instructor: Tony Rojas Tony is the Member Experience Manager at Anytime Fitness in Menomonie and is passionate about healthy eating\, simple recipes\, and wellness!
LOCATION:Menomonie Market 814 Main Street E
UID:e.64.26538
SEQUENCE:3
DTSTAMP:20260426T035358Z
URL:https://menomonie-gzcms.preview.gochambermaster.com/events/details/healthy-cooking-on-a-budget-26538
END:VEVENT

END:VCALENDAR
