BEGIN:VCALENDAR
VERSION:2.0
PRODID:-//ChamberMaster//Event Calendar 2.0//EN
METHOD:PUBLISH
X-PUBLISHED-TTL:P3D
REFRESH-INTERVAL:P3D
CALSCALE:GREGORIAN
BEGIN:VEVENT
DTSTART:20190424T230000Z
DTEND:20190425T010000Z
X-MICROSOFT-CDO-ALLDAYEVENT:FALSE
SUMMARY:Herbs and Herbal Extracts
DESCRIPTION:Learn about herbal extracts\; how to use and make them at home! This class will feature some of the plants featured in the Beaver Creek Plant Sale! Join us as we learn how to concoct herbal remedies for springtime well-being with a focus on reducing pain. Herbal extracts are another must-have DIY remedy to add to your home apothecary? Registration and full payment required by April 22.
X-ALT-DESC;FMTTYPE=text/html:Learn about herbal extracts\; how to use and make them at home! This class will feature some of the plants featured in the Beaver Creek Plant Sale! Join us as we learn how to concoct herbal remedies for springtime well-being&nbsp\;with a focus on reducing pain. Herbal extracts are another must-have DIY remedy to add to your home apothecary? Registration and full payment required by April 22.
LOCATION:Beaver Creek Reserve Wise Nature Center S1 Cty Hwy K Fall Creek\, WI 54742
UID:e.64.26671
SEQUENCE:3
DTSTAMP:20260426T022411Z
URL:https://menomonie-gzcms.preview.gochambermaster.com/events/details/herbs-and-herbal-extracts-26671
END:VEVENT

END:VCALENDAR
