BEGIN:VCALENDAR
VERSION:2.0
PRODID:-//ChamberMaster//Event Calendar 2.0//EN
METHOD:PUBLISH
X-PUBLISHED-TTL:P3D
REFRESH-INTERVAL:P3D
CALSCALE:GREGORIAN
BEGIN:VEVENT
DTSTART:20221212T230000Z
DTEND:20221213T003000Z
X-MICROSOFT-CDO-ALLDAYEVENT:FALSE
SUMMARY:Holiday Party / Business After Hours
DESCRIPTION:You are invited the 2nd Monday of each month for Business After Hours. Build business relationships with other business people in a social atmosphere. It is a great opportunity to make those important business connections. \n\n \n\nHelp us celebrate the holiday season! This FREE event is exclusive to Chamber member Investors.\n\n \n\nThis event will feature a festive spirit with free food and beverages with an opportunity to win PRIZES!\n\n\n\nBring your business cards to exchange and for the door prize drawing. A 50/50 raffle is also available.
X-ALT-DESC;FMTTYPE=text/html:<div class="fl-module fl-module-rich-text fl-node-iucx264sk0vn" data-node="iucx264sk0vn" style="box-sizing: border-box\; color: rgb(73\, 73\, 73)\; font-family: Mulish\, sans-serif\; font-size: 16px\;">\n<div class="fl-module-content fl-node-content" style="box-sizing: border-box\; margin: 20px\;">\n<div class="fl-rich-text" style="box-sizing: border-box\;">\n<p style="box-sizing: border-box\; margin: 0px\; padding: 0px\; border: 0px\; font-size: 14px\; line-height: 1.5\; color: rgb(102\, 102\, 102)\; font-family: &quot\;PT Sans&quot\;\, sans-serif\;"><span style="font-size:12px\;"><span style="font-family:arial\;">You are invited the 2nd Monday of each month for&nbsp\;Business After Hours. Build business relationships with other business people in a social atmosphere. It is a great opportunity to make those important business connections.&nbsp\;</span></span><br style="box-sizing: border-box\;" />\n&nbsp\;</p>\n\n<div style="box-sizing: border-box\; border: 0px\; font-variant-numeric: inherit\; font-variant-east-asian: inherit\; font-stretch: inherit\; font-size: 12px\; line-height: inherit\; font-family: Arial\, Verdana\, Helvetica\, sans-serif\; margin: 0px\; padding: 0px\; vertical-align: baseline\; color: rgb(48\, 48\, 48)\;"><span style="font-size:12px\;"><span style="font-family:arial\;"><span style="box-sizing: border-box\; border: 0px\; font-style: inherit\; font-variant: inherit\; font-weight: inherit\; font-stretch: inherit\; line-height: inherit\; margin: 0px\; padding: 0px\; vertical-align: baseline\; color: rgb(0\, 0\, 0)\;">Help us celebrate the holiday season! This FREE event is exclusive to Chamber member Investors.</span></span></span></div>\n\n<div style="box-sizing: border-box\; border: 0px\; font-variant-numeric: inherit\; font-variant-east-asian: inherit\; font-stretch: inherit\; font-size: 12px\; line-height: inherit\; font-family: Arial\, Verdana\, Helvetica\, sans-serif\; margin: 0px\; padding: 0px\; vertical-align: baseline\; color: rgb(48\, 48\, 48)\;">&nbsp\;</div>\n\n<div style="box-sizing: border-box\; border: 0px\; font-variant-numeric: inherit\; font-variant-east-asian: inherit\; font-stretch: inherit\; font-size: 12px\; line-height: inherit\; font-family: Arial\, Verdana\, Helvetica\, sans-serif\; margin: 0px\; padding: 0px\; vertical-align: baseline\; color: rgb(48\, 48\, 48)\;"><span style="font-size:12px\;"><span style="font-family:arial\;"><span style="box-sizing: border-box\; border: 0px\; font-style: inherit\; font-variant: inherit\; font-weight: inherit\; font-stretch: inherit\; line-height: inherit\; margin: 0px\; padding: 0px\; vertical-align: baseline\; color: inherit\;">This event will feature a festive spirit with free food and beverages with an opportunity to win PRIZES!</span></span></span></div>\n\n<p style="box-sizing: border-box\; margin: 0px\; padding: 0px\; border: 0px\; font-size: 14px\; line-height: 1.5\; color: rgb(102\, 102\, 102)\; font-family: &quot\;PT Sans&quot\;\, sans-serif\;"><br style="box-sizing: border-box\; color: rgb(73\, 73\, 73)\; font-family: Montserrat\, sans-serif\; font-size: 16px\;" />\n<span style="font-size:12px\;"><span style="font-family:arial\;"><span style="color: rgb(73\, 73\, 73)\;">Bring your business cards to exchange and for the door prize drawing. A 50/50 raffle is also available.</span></span></span></p>\n</div>\n</div>\n</div>\n
LOCATION:Held at Marquart Motors Menomonie 531 Oak Ave W\, Menomonie\, WI 54751
UID:e.64.34666
SEQUENCE:3
DTSTAMP:20260421T122620Z
URL:https://menomonie-gzcms.preview.gochambermaster.com/events/details/holiday-party-business-after-hours-34666
END:VEVENT

END:VCALENDAR
