BEGIN:VCALENDAR
VERSION:2.0
PRODID:-//ChamberMaster//Event Calendar 2.0//EN
METHOD:PUBLISH
X-PUBLISHED-TTL:P3D
REFRESH-INTERVAL:P3D
CALSCALE:GREGORIAN
BEGIN:VEVENT
DTSTART:20211120T160000Z
DTEND:20211120T210000Z
X-MICROSOFT-CDO-ALLDAYEVENT:FALSE
SUMMARY:Hunting Widow W(h)ine Walk
DESCRIPTION:Play it forward with a walk or hike on Saturday\, November 20th. (hunting opener). All proceeds will go to benefit Bridge to Hope\, committed to supporting victims of domestic abuse. Tickets are good for 2 beverages and light appetizers. You do not need to be a hunting widow to walk\, but you do need to WEAR ORANGE!\n\n\n\nProceeds benefit Bridge to Hope supporting victims of domestic abuse
X-ALT-DESC;FMTTYPE=text/html:<span style="color:rgb(5\, 5\, 5)\; font-family:segoe ui historic\,segoe ui\,helvetica\,arial\,sans-serif\; font-size:15px">Play it forward with a walk or hike on Saturday\, November 20th. (hunting opener). All proceeds will go to benefit Bridge to Hope\, committed to supporting victims of domestic abuse. Tickets are good for 2 beverages and light appetizers. You do not need to be a hunting widow to walk\, but you do need to WEAR ORANGE!<br />\n<br />\nProceeds benefit Bridge to Hope supporting victims of domestic abuse</span>
LOCATION:WoodWind Park
UID:e.64.32939
SEQUENCE:3
DTSTAMP:20260423T044156Z
URL:https://menomonie-gzcms.preview.gochambermaster.com/events/details/hunting-widow-w-h-ine-walk-32939
END:VEVENT

END:VCALENDAR
