BEGIN:VCALENDAR
VERSION:2.0
PRODID:-//ChamberMaster//Event Calendar 2.0//EN
METHOD:PUBLISH
X-PUBLISHED-TTL:P3D
REFRESH-INTERVAL:P3D
CALSCALE:GREGORIAN
BEGIN:VEVENT
DTSTART:20190209T170000Z
DTEND:20190209T210000Z
X-MICROSOFT-CDO-ALLDAYEVENT:FALSE
SUMMARY:Ice fishing contest
DESCRIPTION:66th annual Dunn County Fish and game Ice fishing contest lake menomonie. Prizes and raffles\, food\, drinks and lots of fun for all. Youth bake sale and euchre tournament. At Dunn county fish and game club house. See info on web site www.fishandgame.com
X-ALT-DESC;FMTTYPE=text/html:66th annual Dunn County Fish and game Ice fishing contest lake menomonie. Prizes and raffles\, food\, drinks and lots of fun for all. Youth bake sale and euchre tournament. At Dunn county fish and game club house. See info on web site www.fishandgame.com
LOCATION:Lake menomin and fish and game club house
UID:e.64.26577
SEQUENCE:3
DTSTAMP:20260426T035357Z
URL:https://menomonie-gzcms.preview.gochambermaster.com/events/details/ice-fishing-contest-26577
END:VEVENT

END:VCALENDAR
