BEGIN:VCALENDAR
VERSION:2.0
PRODID:-//ChamberMaster//Event Calendar 2.0//EN
METHOD:PUBLISH
X-PUBLISHED-TTL:P3D
REFRESH-INTERVAL:P3D
CALSCALE:GREGORIAN
BEGIN:VEVENT
DTSTART:20191016T230000Z
DTEND:20191017T010000Z
X-MICROSOFT-CDO-ALLDAYEVENT:FALSE
SUMMARY:Infused Oils and Salve Making
DESCRIPTION:Learn how to create healing salves with herbal oils for pain\, wounds and other skin ailments using common herbs as well as local wild weeds. Join us as we learn how to concoct herbal remedies that can be used on the skin. We will use a versatile recipe for minor skin issues and for reducing pain. If you joined us in spring 2019 for Salve Making come and join in on the fun again as Kerri will cover another method of infusing oils with herbs...the quick method! Herbal oils & salves are a must-have DIY remedy to add to your home apothecary. All materials included with workshop fee. Instructor: Master Herbalist Kerri Kiernan\, River Prairie Apothecary LLC
X-ALT-DESC;FMTTYPE=text/html:Learn how to create healing salves with herbal oils for pain\, wounds and other skin ailments using common herbs as well as local wild weeds. Join us as we learn how to concoct herbal remedies that can be used on the skin. We will use a versatile recipe for minor skin issues and for reducing pain. If you joined us in spring 2019 for Salve Making come and join in on the fun again as Kerri will cover another method of infusing oils with herbs...the quick method! Herbal oils &amp\; salves are a must-have DIY remedy to add to your home apothecary. All materials included with workshop fee.&nbsp\;Instructor: Master Herbalist Kerri Kiernan\, River Prairie Apothecary LLC
LOCATION:Beaver Creek Reserve Main Lodge S1 Highway K Fall Creek\, WI 54742
UID:e.64.27066
SEQUENCE:3
DTSTAMP:20260425T153923Z
URL:https://menomonie-gzcms.preview.gochambermaster.com/events/details/infused-oils-and-salve-making-27066
END:VEVENT

END:VCALENDAR
