BEGIN:VCALENDAR
VERSION:2.0
PRODID:-//ChamberMaster//Event Calendar 2.0//EN
METHOD:PUBLISH
X-PUBLISHED-TTL:P3D
REFRESH-INTERVAL:P3D
CALSCALE:GREGORIAN
BEGIN:VEVENT
DTSTART:20220331T130000Z
DTEND:20220331T170000Z
X-MICROSOFT-CDO-ALLDAYEVENT:FALSE
SUMMARY:JA Business Challenge
DESCRIPTION:The 20th Annual JA Business Challenge is a business strategy tournament using Junior Achievement's JA Titan  program. The competition is designed to apply student creativity\, test leadership skills and demonstrate the competitive nature of the free enterprise system. High school students work with business professionals virtually to compete for a chance to win post-high school scholarships and advance to the statewide JA Business Challenge competing with students throughout Wisconsin. More than $3\,500 in scholarships will be awarded to area students.
X-ALT-DESC;FMTTYPE=text/html:The 20th Annual JA Business Challenge is a business strategy tournament using Junior Achievement&rsquo\;s JA Titan&reg\; program. The competition is designed to apply student creativity\, test leadership skills and demonstrate the competitive nature of the free enterprise system. High school students work with business professionals virtually to compete for a chance to win post-high school scholarships and advance to the statewide JA Business Challenge competing with students throughout Wisconsin. More than $3\,500 in scholarships will be awarded to area students.
LOCATION:UW-Eau Claire Campus Davies Center\, Ojibwa Room 105 Garfield Ave\, Eau Claire\, WI 54701
UID:e.64.33384
SEQUENCE:3
DTSTAMP:20260422T112938Z
URL:https://menomonie-gzcms.preview.gochambermaster.com/events/details/ja-business-challenge-03-31-2022-33384
END:VEVENT

END:VCALENDAR
