BEGIN:VCALENDAR
VERSION:2.0
PRODID:-//ChamberMaster//Event Calendar 2.0//EN
METHOD:PUBLISH
X-PUBLISHED-TTL:P3D
REFRESH-INTERVAL:P3D
CALSCALE:GREGORIAN
BEGIN:VEVENT
DTSTART:20220602T140000Z
DTEND:20220603T000000Z
X-MICROSOFT-CDO-ALLDAYEVENT:FALSE
SUMMARY:JA Golf Outing
DESCRIPTION:The 26th annual JA Golf Outing is an 18-hole scramble where players will lunch\, on course games\, raffles\, and an online auction. The golf outing is Junior Achievement's oldest and largest fundraiser in northwestern Wisconsin. We are pleased to announce that this year former Green Bay Packer Gilbert Brown will be in attendance. Monies raised from the event will ensure area youth will receive Junior Achievement for the upcoming school year.
X-ALT-DESC;FMTTYPE=text/html:The 26th annual JA Golf Outing is an 18-hole scramble where players will lunch\, on course games\, raffles\, and an online auction. The golf outing is Junior Achievement&rsquo\;s oldest and largest fundraiser in northwestern Wisconsin. We are pleased to announce that this year former Green Bay Packer Gilbert Brown will be in attendance. Monies raised from the event will ensure area youth will receive Junior Achievement for the upcoming school year.
LOCATION:Wild Ridge Golf Course 3647 Kane Rd\, Eau Claire\, WI 54703
UID:e.64.33386
SEQUENCE:3
DTSTAMP:20260422T074015Z
URL:https://menomonie-gzcms.preview.gochambermaster.com/events/details/ja-golf-outing-06-02-2022-33386
END:VEVENT

END:VCALENDAR
