BEGIN:VCALENDAR
VERSION:2.0
PRODID:-//ChamberMaster//Event Calendar 2.0//EN
METHOD:PUBLISH
X-PUBLISHED-TTL:P3D
REFRESH-INTERVAL:P3D
CALSCALE:GREGORIAN
BEGIN:VEVENT
DTSTART:20220625T000000Z
DTEND:20220626T040000Z
X-MICROSOFT-CDO-ALLDAYEVENT:FALSE
SUMMARY:Jake's Live Music
DESCRIPTION:Check out our Summer Tiki Band Schedule! Starting this Saturday\, live music at the Tiki Bar every weekend through Labor Day. Join us on the fun lake at Jake's Supper Club.
X-ALT-DESC;FMTTYPE=text/html:<span style="font-family:montserrat\,-apple-system\,blinkmacsystemfont\,segoe ui\,roboto\,sans-serif\; font-size:14px">Check out our Summer Tiki Band Schedule! Starting this Saturday\, live music at the Tiki Bar every weekend through Labor Day. Join us on the fun lake at Jake&rsquo\;s Supper Club.</span>
LOCATION:Jake's Supper Club E5690 Cty Rd. D Menomonie WI 54751
UID:e.64.33534
SEQUENCE:3
DTSTAMP:20260423T011057Z
URL:https://menomonie-gzcms.preview.gochambermaster.com/events/details/jake-s-live-music-33534
END:VEVENT

END:VCALENDAR
