BEGIN:VCALENDAR
VERSION:2.0
PRODID:-//ChamberMaster//Event Calendar 2.0//EN
METHOD:PUBLISH
X-PUBLISHED-TTL:P3D
REFRESH-INTERVAL:P3D
CALSCALE:GREGORIAN
BEGIN:VEVENT
DTSTART:20190713T160000Z
DTEND:20190713T200000Z
X-MICROSOFT-CDO-ALLDAYEVENT:FALSE
SUMMARY:Kid's Fishing Day
DESCRIPTION:Free event at the store Knot Tying Fishing Safety Live Bait Casting with Rod and Reel Combos Also there will be a Brat/Hot Dog Stand on site
X-ALT-DESC;FMTTYPE=text/html:Free event at the store Knot Tying Fishing Safety Live Bait Casting with Rod and Reel Combos Also there will be a Brat/Hot Dog Stand on site
LOCATION:Fleet Farm 2003 US Highway 12 Menomonie\, WI 54751
UID:e.64.26799
SEQUENCE:3
DTSTAMP:20260425T224733Z
URL:https://menomonie-gzcms.preview.gochambermaster.com/events/details/kid-s-fishing-day-26799
END:VEVENT

END:VCALENDAR
