BEGIN:VCALENDAR
VERSION:2.0
PRODID:-//ChamberMaster//Event Calendar 2.0//EN
METHOD:PUBLISH
X-PUBLISHED-TTL:P3D
REFRESH-INTERVAL:P3D
CALSCALE:GREGORIAN
BEGIN:VEVENT
DTSTART:20190428T160000Z
DTEND:20190428T200000Z
X-MICROSOFT-CDO-ALLDAYEVENT:FALSE
SUMMARY:Kite Festival
DESCRIPTION:Enjoy a relaxing afternoon at Menomonie's second annual kite festival! Bring your family and your kites\, and let's fill the sky with color. A FREE event open to the public. Vendors will be on site with great deals on kites as well as other kids' toys. Also enjoy food specials in the clubhouse during that time.
X-ALT-DESC;FMTTYPE=text/html:Enjoy a relaxing afternoon at Menomonie&#39\;s second annual kite festival! Bring your family and your kites\, and let&#39\;s fill the sky with color. A FREE event open to the public. Vendors will be on site with great deals on kites as well as other kids&#39\; toys. Also enjoy food specials in the clubhouse during that time.
LOCATION:Tanglewood Greens 2200 Crestwood Dr\, Menomonie\, WI 54751
UID:e.64.26440
SEQUENCE:3
DTSTAMP:20260426T011457Z
URL:https://menomonie-gzcms.preview.gochambermaster.com/events/details/kite-festival-26440
END:VEVENT

END:VCALENDAR
