BEGIN:VCALENDAR
VERSION:2.0
PRODID:-//ChamberMaster//Event Calendar 2.0//EN
METHOD:PUBLISH
X-PUBLISHED-TTL:P3D
REFRESH-INTERVAL:P3D
CALSCALE:GREGORIAN
BEGIN:VEVENT
DTSTART:20200814T230000Z
DTEND:20200815T010000Z
X-MICROSOFT-CDO-ALLDAYEVENT:FALSE
SUMMARY:Let's Taco 'Bout Tequila
DESCRIPTION:Let's Taco 'bout Tequila! Sign up for our next Tasting Event - Thursday\, August 13 from 6:00 to 8:00 where we will be featuring all things Tequila! Enjoy Tequila based Cocktail and Food Samples along with recipes and prizes. Cost is $25 per person and includes Cocktail and Food Sampling\, Recipes and Prizes! Space is limited (Limited to the first 25 attendees)\, so sign up today!! Call 715.235.6124\, email us at dine@wilsoncreekinn.com or sign up on the Wilson Creek Inn event page.
X-ALT-DESC;FMTTYPE=text/html:<span style="color:rgb(28\, 30\, 33)\; font-family:helvetica\,arial\,sans-serif\; font-size:14px">Let&#39\;s Taco &#39\;bout Tequila! Sign up for our next Tasting Event - Thursday\, August 13 from 6:00 to 8:00 where we will be featuring all things Tequila! Enjoy Tequila based Cocktail and Food Samples along with recipes and prizes. Cost is $25 per person and includes Cocktail and Food Sampling\, Recipes and Prizes! Space is limited (Limited to the first 25 attendees)\, so sign up today!! Call 715.235.6124\, email us at dine@wilsoncreekinn.com or sign up on the Wilson Creek Inn event page.</span>
LOCATION:Wilson Creek Inn 932 N Broadway St. Menomonie WI 54751 715-235-6124
UID:e.64.29469
SEQUENCE:3
DTSTAMP:20260424T203935Z
URL:https://menomonie-gzcms.preview.gochambermaster.com/events/details/let-s-taco-bout-tequila-29469
END:VEVENT

END:VCALENDAR
