BEGIN:VCALENDAR
VERSION:2.0
PRODID:-//ChamberMaster//Event Calendar 2.0//EN
METHOD:PUBLISH
X-PUBLISHED-TTL:P3D
REFRESH-INTERVAL:P3D
CALSCALE:GREGORIAN
BEGIN:VEVENT
DTSTART:20231027T230000Z
DTEND:20231028T020000Z
X-MICROSOFT-CDO-ALLDAYEVENT:FALSE
SUMMARY:Mabel Masquerade
DESCRIPTION:Join us for a FREE Halloween Celebration with dancing\, drinks and fun\, right on the Spooktacular Mabel Tainter Stage! Come dressed in your best costume for a chance to win our Costume Contest. A selection of snacks and appetizers will be provided for free\, and drinks are available for purchase in the Spirit Room!
X-ALT-DESC;FMTTYPE=text/html:Join us for a FREE Halloween Celebration with dancing\, drinks and fun\, right on the Spooktacular Mabel Tainter Stage! Come dressed in your best costume for a chance to win our Costume Contest. A selection of snacks and appetizers will be provided for free\, and drinks are available for purchase in the Spirit Room!
LOCATION:The Mabel Tainter 205 Main Street East Menomonie\, WI\, 54751
UID:e.64.34920
SEQUENCE:3
DTSTAMP:20260419T175249Z
URL:https://menomonie-gzcms.preview.gochambermaster.com/events/details/mabel-masquerade-34920
END:VEVENT

END:VCALENDAR
