BEGIN:VCALENDAR
VERSION:2.0
PRODID:-//ChamberMaster//Event Calendar 2.0//EN
METHOD:PUBLISH
X-PUBLISHED-TTL:P3D
REFRESH-INTERVAL:P3D
CALSCALE:GREGORIAN
BEGIN:VEVENT
DTSTART:20190307T210000Z
DTEND:20190308T010000Z
X-MICROSOFT-CDO-ALLDAYEVENT:FALSE
SUMMARY:Manufacturing Show
DESCRIPTION:Come see what programs we have at Chippewa Valley Technical College's Manufacturing Show on Thursday\, March 7\, from 3-7pm. If you're a high school student\, adult looking for a career shift\, or a curious community member you'll want to check us out. Explore manufacturing programs\, engage in hands-on excitement\, apply for college\, and learn more about careers available in a high-tech\, high demand\, and high-paying industry. Submit an application at the event\, and we'll waive the $30 fee. Register today\, and you'll get a free gift when you attend!
X-ALT-DESC;FMTTYPE=text/html:Come see what programs we have at Chippewa Valley Technical College&rsquo\;s Manufacturing Show on Thursday\, March 7\, from 3-7pm. If you&rsquo\;re a high school student\, adult looking for a career shift\, or a curious community member&mdash\;you&rsquo\;ll want to check us out. Explore manufacturing programs\, engage in hands-on excitement\, apply for college\, and learn more about careers available in a high-tech\, high demand\, and high-paying industry. Submit an application at the event\, and we&rsquo\;ll waive the $30 fee. Register today\, and you&rsquo\;ll get a free gift when you attend!
LOCATION:Chippewa Valley Technical College Gateway Campus
UID:e.64.26358
SEQUENCE:3
DTSTAMP:20260426T035318Z
URL:https://menomonie-gzcms.preview.gochambermaster.com/events/details/manufacturing-show-26358
END:VEVENT

END:VCALENDAR
