BEGIN:VCALENDAR
VERSION:2.0
PRODID:-//ChamberMaster//Event Calendar 2.0//EN
METHOD:PUBLISH
X-PUBLISHED-TTL:P3D
REFRESH-INTERVAL:P3D
CALSCALE:GREGORIAN
BEGIN:VEVENT
DTSTART:20230915T000000Z
DTEND:20231002T020000Z
X-MICROSOFT-CDO-ALLDAYEVENT:FALSE
SUMMARY:Matilda the Musical
DESCRIPTION:MATILDA THE MUSICAL September 14\, 15\, 16\, 17\, 21\, 22\, 23\, 24\, 28\, 29\, 30\, Oct 1 The Rochester Civic Theatre is proud to open Season 72 with this Tony Award -winning story of an extraordinary girl who dreams of a better life. Armed with a vivid imagination and a sharp mind\, Matilda dares to take a stand and change her own destiny. Based on the beloved novel by Roald Dahl\, MATILDA has won 47 international awards\, and continues to thrill sold-out audiences of all ages in London's West End. Directed by Misha Johnson\, Music Directed by Catherine Davis Book by Dennis Kelly\, Music and Lyrics by Tim Minchin
X-ALT-DESC;FMTTYPE=text/html:MATILDA THE MUSICAL September 14\, 15\, 16\, 17\, 21\, 22\, 23\, 24\, 28\, 29\, 30\, Oct 1 The Rochester Civic Theatre is proud to open Season 72 with this Tony Award&reg\;-winning story of an extraordinary girl who dreams of a better life. Armed with a vivid imagination and a sharp mind\, Matilda dares to take a stand and change her own destiny. Based on the beloved novel by Roald Dahl\, MATILDA has won 47 international awards\, and continues to thrill sold-out audiences of all ages in London&rsquo\;s West End. Directed by Misha Johnson\, Music Directed by Catherine Davis Book by Dennis Kelly\, Music and Lyrics by Tim Minchin
LOCATION:Rochester Civic Theatre\, 30 Civic Center Drive SE\; Suite 100\, Rochester\, MN 55904
UID:e.64.34835
SEQUENCE:3
DTSTAMP:20260419T185125Z
URL:https://menomonie-gzcms.preview.gochambermaster.com/events/details/matilda-the-musical-34835
END:VEVENT

END:VCALENDAR
