BEGIN:VCALENDAR
VERSION:2.0
PRODID:-//ChamberMaster//Event Calendar 2.0//EN
METHOD:PUBLISH
X-PUBLISHED-TTL:P3D
REFRESH-INTERVAL:P3D
CALSCALE:GREGORIAN
BEGIN:VEVENT
DTSTART:20200209T020000Z
DTEND:20200209T040000Z
X-MICROSOFT-CDO-ALLDAYEVENT:FALSE
SUMMARY:Men are from Mars - Women are from Venus LIVE!
DESCRIPTION:The Off-Broadway hit comedy Men Are From Mars   Women Are From Venus LIVE!\, is a one-man fusion of theatre and stand-up\, and is a light-hearted theatrical comedy based on the New York Times #1 best-selling book of the last decade by John Gray. Moving swiftly through a series of vignettes\, the show covers everything from dating and marriage to the bedroom. This hysterical show will have couples elbowing each other all evening as they see themselves on stage. Sexy and fast paced\, this show is definitely for adults\, but will leave audiences laughing and giggling like little kids! When Mars and Venus collide\, the adventures are earth-shatteringly hysterical. It's a great recipe for a date night out: a little storytelling blended with some comedy and a dash of sage wisdom from the book. A delicious evening of entertainment!
X-ALT-DESC;FMTTYPE=text/html:The Off-Broadway hit comedy Men Are From Mars &ndash\; Women Are From Venus LIVE!\, is a one-man fusion of theatre and stand-up\, and is a light-hearted theatrical comedy based on the New York Times #1 best-selling book of the last decade by John Gray. Moving swiftly through a series of vignettes\, the show covers everything from dating and marriage to the bedroom. This hysterical show will have couples elbowing each other all evening as they see themselves on stage. Sexy and fast paced\, this show is definitely for adults\, but will leave audiences laughing and giggling like little kids! When Mars and Venus collide\, the adventures are earth-shatteringly hysterical. It&#39\;s a great recipe for a date night out: a little storytelling blended with some comedy and a dash of sage wisdom from the book. A delicious evening of entertainment!
LOCATION:Mabel Tainter Theater
UID:e.64.29308
SEQUENCE:3
DTSTAMP:20260425T040730Z
URL:https://menomonie-gzcms.preview.gochambermaster.com/events/details/men-are-from-mars-women-are-from-venus-live-29308
END:VEVENT

END:VCALENDAR
