BEGIN:VCALENDAR
VERSION:2.0
PRODID:-//ChamberMaster//Event Calendar 2.0//EN
METHOD:PUBLISH
X-PUBLISHED-TTL:P3D
REFRESH-INTERVAL:P3D
CALSCALE:GREGORIAN
BEGIN:VEVENT
DTSTART:20200306T181500Z
DTEND:20200306T190000Z
X-MICROSOFT-CDO-ALLDAYEVENT:FALSE
SUMMARY:Mindful Meditation
DESCRIPTION:Fridays at 12:15 at the Menomonie Public Library. Sponsored by the Menomonie Public Library\, Mayo Clinic Health System and presented by Theresa Krueger of Being Human Yoga. Spending even a few minutes in meditation can reconnect you with a sense of calm and inner peace. Anyone can practice meditation. It?s simple\, inexpensive and doesn?t require any special equipment. You can bring mindfulness to any of your daily activities? out for a walk\, waiting at the doctor?s office or even in the middle of a difficult business meeting.
X-ALT-DESC;FMTTYPE=text/html:Fridays at 12:15 at the Menomonie Public Library. Sponsored by the Menomonie Public Library\, Mayo Clinic Health System and presented by Theresa Krueger of Being Human Yoga. Spending even a few minutes in meditation can reconnect you with a sense of calm and inner peace. Anyone can practice meditation. It?s simple\, inexpensive and doesn?t require any special equipment. You can bring mindfulness to any of your daily activities? out for a walk\, waiting at the doctor?s office or even in the middle of a difficult business meeting.
LOCATION:Menomonie Public Library 600 Wolske Bay Rd
UID:e.64.28280
SEQUENCE:3
DTSTAMP:20260425T013913Z
URL:https://menomonie-gzcms.preview.gochambermaster.com/events/details/mindful-meditation-03-06-2020-28280
END:VEVENT

END:VCALENDAR
