BEGIN:VCALENDAR
VERSION:2.0
PRODID:-//ChamberMaster//Event Calendar 2.0//EN
METHOD:PUBLISH
X-PUBLISHED-TTL:P3D
REFRESH-INTERVAL:P3D
CALSCALE:GREGORIAN
BEGIN:VEVENT
DTSTART:20211114T013000Z
DTEND:20211114T033000Z
X-MICROSOFT-CDO-ALLDAYEVENT:FALSE
SUMMARY:MTG Presents: All Together Now!: A Global Event Celebrating Local Theatre.
DESCRIPTION:Menomonie Theater Guild\, in partnership with The Mabel Tainter Theater\, will be joining thousands of theatrical organizations worldwide in producing their own local production of All Together Now!: A Global Event Celebrating Local Theatre. This brand new musical revue from Music Theatre International features songs from their beloved catalogue of musicals including Annie\, Into the Woods\, Guys and Dolls\, Newsies\, Waitress\, Mamma Mia! and many more! Tickets are $15 per person\, and can be purchased at mabeltainter.org.
X-ALT-DESC;FMTTYPE=text/html:Menomonie Theater Guild\, in partnership with The Mabel Tainter Theater\, will be joining thousands of theatrical organizations worldwide in producing their own local production of All Together Now!: A Global Event Celebrating Local Theatre. This brand new musical revue from Music Theatre International features songs from their beloved catalogue of musicals including Annie\, Into the Woods\, Guys and Dolls\, Newsies\, Waitress\, Mamma Mia! and many more! Tickets are $15 per person\, and can be purchased at mabeltainter.org.
LOCATION:The Mabel Tainter Theater
UID:e.64.32889
SEQUENCE:3
DTSTAMP:20260423T030058Z
URL:https://menomonie-gzcms.preview.gochambermaster.com/events/details/mtg-presents-all-together-now-a-global-event-celebrating-local-theatre-32889
END:VEVENT

END:VCALENDAR
