BEGIN:VCALENDAR
VERSION:2.0
PRODID:-//ChamberMaster//Event Calendar 2.0//EN
METHOD:PUBLISH
X-PUBLISHED-TTL:P3D
REFRESH-INTERVAL:P3D
CALSCALE:GREGORIAN
BEGIN:VEVENT
DTSTART:20220513T190000Z
DTEND:20220514T220000Z
X-MICROSOFT-CDO-ALLDAYEVENT:FALSE
SUMMARY:MTG Presents: Black Friday
DESCRIPTION:Written by local historian the late John Russell\, Black Friday recalls the last moments of President Abraham Lincoln's life in that fateful balcony seat in Ford's Theater. Originally performed by MTG in 1976 and again in 1992\, Black Friday was written specifically for the Mabel Tainter stage. Step back in time to April 14\, 1865\, for this one-of-a-kind theatrical event!
X-ALT-DESC;FMTTYPE=text/html:Written by local historian the late John Russell\, Black Friday recalls the last moments of President Abraham Lincoln&rsquo\;s life in that fateful balcony seat in Ford&#39\;s Theater. Originally performed by MTG in 1976 and again in 1992\, Black Friday was written specifically for the Mabel Tainter stage. Step back in time to April 14\, 1865\, for this one-of-a-kind theatrical event!
LOCATION:Mabel Tainter Center for the Arts
UID:e.64.33463
SEQUENCE:3
DTSTAMP:20260422T094541Z
URL:https://menomonie-gzcms.preview.gochambermaster.com/events/details/mtg-presents-black-friday-05-13-2022-33463
END:VEVENT

END:VCALENDAR
