BEGIN:VCALENDAR
VERSION:2.0
PRODID:-//ChamberMaster//Event Calendar 2.0//EN
METHOD:PUBLISH
X-PUBLISHED-TTL:P3D
REFRESH-INTERVAL:P3D
CALSCALE:GREGORIAN
BEGIN:VEVENT
DTSTART:20220722T000000Z
DTEND:20220722T013000Z
X-MICROSOFT-CDO-ALLDAYEVENT:FALSE
SUMMARY:MUSIC OVER MENOMIN - OLD SOUL SOCIETY
DESCRIPTION:The news you've been waiting for is here! Music Over Menomin will be back in full swing in 2022! The stage is set for live music on the lawn of Menomonie Public Library (600 Wolske Bay Road) by the shores of scenic Lake Menomin\, featuring local talent from the Chippewa Valley. With a great lineup of 10 bands\, we'll keep you moving and grooving through the summer! Thursdays at 7pm from June 9-August 11
X-ALT-DESC;FMTTYPE=text/html:The news you&rsquo\;ve been waiting for is here! Music Over Menomin will be back in full swing in 2022! The stage is set for live music on the lawn of Menomonie Public Library (600 Wolske Bay Road) by the shores of scenic Lake Menomin\, featuring local talent from the Chippewa Valley. With a great lineup of 10 bands\, we&rsquo\;ll keep you moving and grooving through the summer! Thursdays at 7pm from June 9-August 11
LOCATION:Menomonie Public Library 600 Wolske Bay Road Menomonie\, WI 54751
UID:e.64.33530
SEQUENCE:3
DTSTAMP:20260422T043235Z
URL:https://menomonie-gzcms.preview.gochambermaster.com/events/details/music-over-menomin-old-soul-society-07-21-2022-33530
END:VEVENT

END:VCALENDAR
