BEGIN:VCALENDAR
VERSION:2.0
PRODID:-//ChamberMaster//Event Calendar 2.0//EN
METHOD:PUBLISH
X-PUBLISHED-TTL:P3D
REFRESH-INTERVAL:P3D
CALSCALE:GREGORIAN
BEGIN:VEVENT
DTSTART:20230923T230000Z
DTEND:20230924T020000Z
X-MICROSOFT-CDO-ALLDAYEVENT:FALSE
SUMMARY:Nora Jean O'Dea\, Wyatt Thomson\, Cap'N Seabeard\, and 12OzSquirrels @ the Raw Deal
DESCRIPTION:Come on down to the Raw Deal in Menomonie\, WI at 6pm for some toe tapping tunes! Cover charge is only $10 and all proceeds go to the musicians! Nora Jean O'Dea will start the night off\, followed by Wyatt Thomson\, Cap'N Seabeard\, and the 12OzSquirrels will close the night away! Come and support some fantastic local musicians inside a great local coffee shop! We hope to see y'all there!
X-ALT-DESC;FMTTYPE=text/html:Come on down to the Raw Deal in Menomonie\, WI at 6pm for some toe tapping tunes! Cover charge is only $10 and all proceeds go to the musicians! Nora Jean O&#39\;Dea will start the night off\, followed by Wyatt Thomson\, Cap&#39\;N Seabeard\, and the 12OzSquirrels will close the night away! Come and support some fantastic local musicians inside a great local coffee shop! We hope to see y&#39\;all there!
LOCATION:Raw Deal 603 Broadway St S #2457\, Menomonie\, WI 54751
UID:e.64.34842
SEQUENCE:3
DTSTAMP:20260420T005239Z
URL:https://menomonie-gzcms.preview.gochambermaster.com/events/details/nora-jean-o-dea-wyatt-thomson-cap-n-seabeard-and-12ozsquirrels-the-raw-deal-34842
END:VEVENT

END:VCALENDAR
