BEGIN:VCALENDAR
VERSION:2.0
PRODID:-//ChamberMaster//Event Calendar 2.0//EN
METHOD:PUBLISH
X-PUBLISHED-TTL:P3D
REFRESH-INTERVAL:P3D
CALSCALE:GREGORIAN
BEGIN:VEVENT
DTSTART:20190501T233000Z
DTEND:20190502T010000Z
X-MICROSOFT-CDO-ALLDAYEVENT:FALSE
SUMMARY:Pages and Pints Book Discussion-The 71/2 Death's of Evelyn Hardcastle
DESCRIPTION:A Menomonie Public Library Book Discussion Group. Patrons are responsible for their own sustenance. Book Premise: There are three rules of Blackheath House: 1. Evelyn Hardcastle will be murdered at 11:00 p.m. 2. There are eight days and eight witnesses for you to inhabit. 3. We will only let you escape once you tell us the name of the killer. Understood? Then let's begin... Evelyn Hardcastle will die. She will die every day until Aiden Bishop can identify her killer and break the cycle. But every time the day begins again\, Aiden wakes up in the body of a different guest. Some of his hosts are helpful\, and others only operate on a need to know basis.
X-ALT-DESC;FMTTYPE=text/html:A Menomonie Public Library Book Discussion Group. Patrons are responsible for their own sustenance. Book Premise: There are three rules of Blackheath House: 1. Evelyn Hardcastle will be murdered at 11:00 p.m. 2. There are eight days and eight witnesses for you to inhabit. 3. We will only let you escape once you tell us the name of the killer. Understood? Then let&#39\;s begin... Evelyn Hardcastle will die. She will die every day until Aiden Bishop can identify her killer and break the cycle. But every time the day begins again\, Aiden wakes up in the body of a different guest. Some of his hosts are helpful\, and others only operate on a need to know basis.
LOCATION:The Barrel Room 320 Main St E\, Menomonie\,
UID:e.64.26609
SEQUENCE:3
DTSTAMP:20260425T223008Z
URL:https://menomonie-gzcms.preview.gochambermaster.com/events/details/pages-and-pints-book-discussion-the-71-2-death-s-of-evelyn-hardcastle-26609
END:VEVENT

END:VCALENDAR
