BEGIN:VCALENDAR
VERSION:2.0
PRODID:-//ChamberMaster//Event Calendar 2.0//EN
METHOD:PUBLISH
X-PUBLISHED-TTL:P3D
REFRESH-INTERVAL:P3D
CALSCALE:GREGORIAN
BEGIN:VEVENT
DTSTART:20190307T003000Z
DTEND:20190307T020000Z
X-MICROSOFT-CDO-ALLDAYEVENT:FALSE
SUMMARY:Pages and Pints Book Discussion-The Library Book
DESCRIPTION:Menomonie Public Library Book Discussion. Patrons are responsible for their own sustenance. Book Premise: On the morning of April 29\, 1986\, a fire alarm sounded in the Los Angeles Public Library. As the moments passed\, the patrons and staff who had been cleared out of the building realized this was not the usual fire alarm. As one fireman recounted\, "Once that first stack got going\, it was 'Goodbye\, Charlie.'" The fire was disastrous: it reached 2000 degrees and burned for more than seven hours. By the time it was extinguished\, it had consumed four hundred thousand books and damaged seven hundred thousand more. Investigators descended on the scene\, but more than thirty years later\, the mystery remains: Did someone purposefully set fire to the library and if so\, who?
X-ALT-DESC;FMTTYPE=text/html:Menomonie Public Library Book Discussion. Patrons are responsible for their own sustenance. Book Premise: On the morning of April 29\, 1986\, a fire alarm sounded in the Los Angeles Public Library. As the moments passed\, the patrons and staff who had been cleared out of the building realized this was not the usual fire alarm. As one fireman recounted\, &ldquo\;Once that first stack got going\, it was &lsquo\;Goodbye\, Charlie.&rsquo\;&rdquo\; The fire was disastrous: it reached 2000 degrees and burned for more than seven hours. By the time it was extinguished\, it had consumed four hundred thousand books and damaged seven hundred thousand more. Investigators descended on the scene\, but more than thirty years later\, the mystery remains: Did someone purposefully set fire to the library&mdash\;and if so\, who?
LOCATION:The Barrel Room 320 Main St E\, Menomonie\,
UID:e.64.26607
SEQUENCE:3
DTSTAMP:20260426T035357Z
URL:https://menomonie-gzcms.preview.gochambermaster.com/events/details/pages-and-pints-book-discussion-the-library-book-26607
END:VEVENT

END:VCALENDAR
