BEGIN:VCALENDAR
VERSION:2.0
PRODID:-//ChamberMaster//Event Calendar 2.0//EN
METHOD:PUBLISH
X-PUBLISHED-TTL:P3D
REFRESH-INTERVAL:P3D
CALSCALE:GREGORIAN
BEGIN:VEVENT
DTSTART;VALUE=DATE:20210618
DTEND;VALUE=DATE:20210619
TRANSP:TRANSPARENT
X-MICROSOFT-CDO-ALLDAYEVENT:TRUE
SUMMARY:Parade of Homes
DESCRIPTION:The 47th annual Parade of Homes presented by the Chippewa Valley Home Builders Association & Great American Fireplace will feature in-person tours of both new and remodeled homes\, plus NEW this year ticket holders can view 'virtual only' homes.\n\n\n\nCome see the latest trends and get ideas for your next home project. Homes are open for touring June 12\, 13 & 19 from 10am to 5pm and June 14 - 18 from 5pm to 9pm. Remodeled homes are only open June 12 and 13.\n\n\n\nTickets are available for purchase through June 11 for $8 at Royal Credit Union locations in Eau Claire\, Chippewa Falls and Menomonie or online. Tickets can also be purchased online or at the first home you visit after June 11 for $10. Children 12 and under are free\, however due to COVID-10\, this year parents are encouraged to tour the homes without their children if they are able.\n\n\n\nDon't forget to grab a Scavenger Hunt and find the unique item in each home and get entered to win prizes! Plus when you vote for your favorites in the People's Choice Award\, you get entered to win cash. For more information\, visit www.ParadeOfHomesCV.com.
X-ALT-DESC;FMTTYPE=text/html:The 47th annual Parade of Homes presented by the Chippewa Valley Home Builders Association &amp\; Great American Fireplace will feature in-person tours of both new and remodeled homes\, plus NEW this year ticket holders can view &#39\;virtual only&#39\; homes.<br />\n<br />\nCome see the latest trends and get ideas for your next home project. Homes are open for touring June 12\, 13 &amp\; 19 from 10am to 5pm and June 14 - 18 from 5pm to 9pm. Remodeled homes are only open June 12 and 13.<br />\n<br />\nTickets are available for purchase through June 11 for $8 at Royal Credit Union locations in Eau Claire\, Chippewa Falls and Menomonie or online. Tickets can also be purchased online or at the first home you visit after June 11 for $10. Children 12 and under are free\, however due to COVID-10\, this year parents are encouraged to tour the homes without their children if they are able.<br />\n<br />\nDon&#39\;t forget to grab a Scavenger Hunt and find the unique item in each home and get entered to win prizes! Plus when you vote for your favorites in the People&#39\;s Choice Award\, you get entered to win cash. For more information\, visit <a href="http://www.ParadeOfHomesCV.com">www.ParadeOfHomesCV.com</a>.
LOCATION:Homes are located throughout the Chippewa Valley. Visit www.ParadeOfHomesCV.com for locations.
UID:e.64.32253
SEQUENCE:3
DTSTAMP:20260423T171126Z
URL:https://menomonie-gzcms.preview.gochambermaster.com/events/details/parade-of-homes-06-18-2021-32253
END:VEVENT

END:VCALENDAR
