BEGIN:VCALENDAR
VERSION:2.0
PRODID:-//ChamberMaster//Event Calendar 2.0//EN
METHOD:PUBLISH
X-PUBLISHED-TTL:P3D
REFRESH-INTERVAL:P3D
CALSCALE:GREGORIAN
BEGIN:VEVENT
DTSTART:20230501T210000Z
DTEND:20230501T230000Z
X-MICROSOFT-CDO-ALLDAYEVENT:FALSE
SUMMARY:PCEM 5 + 8: Lightning Talks & Project Gallery
DESCRIPTION:May 1\, 2023\n\nPCEM 5 + 8: Lightning Talks & Project Gallery\n\nHarvey Hall 355 | 4:00-6:00 p.m.\n\n(Open to Public)\n\n\n\nWe are featuring five graduating seniors and eight student project clusters in a kinetic showcase event.
X-ALT-DESC;FMTTYPE=text/html:May 1\, 2023<br />\nPCEM 5 + 8: Lightning Talks &amp\; Project Gallery<br />\nHarvey Hall 355 | 4:00-6:00 p.m.<br />\n(Open to Public)<br />\n<br />\n<span style="box-sizing: border-box\; color: rgb(0\, 0\, 0)\; font-family: Helvetica\; background-color: rgb(249\, 254\, 255)\; font-size: 10pt\;">We are featuring&nbsp\;</span><strong style="box-sizing: border-box\; color: rgb(0\, 0\, 0)\; font-family: Helvetica\; background-color: rgb(249\, 254\, 255)\; font-size: 10pt\;">five graduating seniors</strong><span style="box-sizing: border-box\; color: rgb(0\, 0\, 0)\; font-family: Helvetica\; background-color: rgb(249\, 254\, 255)\; font-size: 10pt\;">&nbsp\;and&nbsp\;</span><strong style="box-sizing: border-box\; color: rgb(0\, 0\, 0)\; font-family: Helvetica\; background-color: rgb(249\, 254\, 255)\; font-size: 10pt\;">eight student project clusters&nbsp\;</strong><span style="box-sizing: border-box\; color: rgb(0\, 0\, 0)\; font-family: Helvetica\; background-color: rgb(249\, 254\, 255)\; font-size: 10pt\;">in a kinetic showcase event.&nbsp\;</span>
LOCATION:University of Wisconsin - Stout Harvey Hall 355
UID:e.64.34751
SEQUENCE:3
DTSTAMP:20260420T082300Z
URL:https://menomonie-gzcms.preview.gochambermaster.com/events/details/pcem-5-8-lightning-talks-project-gallery-34751
END:VEVENT

END:VCALENDAR
