BEGIN:VCALENDAR
VERSION:2.0
PRODID:-//ChamberMaster//Event Calendar 2.0//EN
METHOD:PUBLISH
X-PUBLISHED-TTL:P3D
REFRESH-INTERVAL:P3D
CALSCALE:GREGORIAN
BEGIN:VEVENT
DTSTART:20190907T133000Z
DTEND:20190908T200000Z
X-MICROSOFT-CDO-ALLDAYEVENT:FALSE
SUMMARY:Political Reform Chautauqua
DESCRIPTION:Wisconsin United to Amend and the Rassbach Museum are cosponsoring a Chautauqua to highlight the arts\, music\, education\, entertainment\, and political reform similar to the Chautauquas of the late 1880's and early 1900's.
X-ALT-DESC;FMTTYPE=text/html:Wisconsin United to Amend and the Rassbach Museum are cosponsoring a Chautauqua to highlight the arts\, music\, education\, entertainment\, and political reform similar to the Chautauquas of the late 1880&#39\;s and early 1900&#39\;s.
LOCATION:Rassbach Museum\, Menomonie\, WI & Wakanda Pavilion\, Wakanda Park
UID:e.64.26888
SEQUENCE:3
DTSTAMP:20260425T155153Z
URL:https://menomonie-gzcms.preview.gochambermaster.com/events/details/political-reform-chautauqua-26888
END:VEVENT

END:VCALENDAR
