BEGIN:VCALENDAR
VERSION:2.0
PRODID:-//ChamberMaster//Event Calendar 2.0//EN
METHOD:PUBLISH
X-PUBLISHED-TTL:P3D
REFRESH-INTERVAL:P3D
CALSCALE:GREGORIAN
BEGIN:VEVENT
DTSTART:20210305T000000Z
DTEND:20210305T013000Z
X-MICROSOFT-CDO-ALLDAYEVENT:FALSE
SUMMARY:Project Hope Virtual Event
DESCRIPTION:Join us for a virtual event in which we discuss Project Hope including current initiatives and future steps. Project Hope is an evidence-based program used to reduce methamphetamine/opioid addictions and their ancillary crimes. Project Hope consists of four strategic pillars that holistically address drug addiction and crime. For more information on Project Hope\, visit: https://menomonie-pd.com/project-hope
X-ALT-DESC;FMTTYPE=text/html:Join us for a virtual event in which we discuss Project Hope including current initiatives and future steps. Project Hope is an evidence-based program used to reduce methamphetamine/opioid addictions and their ancillary crimes. Project Hope consists of four strategic pillars that holistically address drug addiction and crime. For more information on Project Hope\, visit: https://menomonie-pd.com/project-hope
LOCATION:Virtual
UID:e.64.31174
SEQUENCE:3
DTSTAMP:20260424T004527Z
URL:https://menomonie-gzcms.preview.gochambermaster.com/events/details/project-hope-virtual-event-31174
END:VEVENT

END:VCALENDAR
