BEGIN:VCALENDAR
VERSION:2.0
PRODID:-//ChamberMaster//Event Calendar 2.0//EN
METHOD:PUBLISH
X-PUBLISHED-TTL:P3D
REFRESH-INTERVAL:P3D
CALSCALE:GREGORIAN
BEGIN:VEVENT
DTSTART:20190504T150000Z
DTEND:20190504T190000Z
X-MICROSOFT-CDO-ALLDAYEVENT:FALSE
SUMMARY:Project RED Training
DESCRIPTION:The sooner an invasive species is discovered the easier it is to manage\, and the less expensive to manage! Project Riverine Early Detectors (RED) is a statewide volunteer program where volunteers paddle on their favorite river searching for new populations of invasive species. This training session will have an indoor portion consisting of volunteer protocol and invasive ID\, followed by a quick paddle to get hands on. Registration and full payment: N/A
X-ALT-DESC;FMTTYPE=text/html:The sooner an invasive species is discovered the easier it is to manage\, and the less expensive to manage! Project Riverine Early Detectors (RED) is a statewide volunteer program where volunteers paddle on their favorite river searching for new populations of invasive species. This training session will have an indoor portion consisting of volunteer protocol and invasive ID\, followed by a quick paddle to get hands on. Registration and full payment: N/A
LOCATION:Beaver Creek Reserve Citizen Science Center S1 Cty Hwy K Fall Creek\, WI 54742
UID:e.64.26674
SEQUENCE:3
DTSTAMP:20260425T222457Z
URL:https://menomonie-gzcms.preview.gochambermaster.com/events/details/project-red-training-26674
END:VEVENT

END:VCALENDAR
