BEGIN:VCALENDAR
VERSION:2.0
PRODID:-//ChamberMaster//Event Calendar 2.0//EN
METHOD:PUBLISH
X-PUBLISHED-TTL:P3D
REFRESH-INTERVAL:P3D
CALSCALE:GREGORIAN
BEGIN:VEVENT
DTSTART;VALUE=DATE:20190724
DTEND;VALUE=DATE:20190729
TRANSP:TRANSPARENT
X-MICROSOFT-CDO-ALLDAYEVENT:TRUE
SUMMARY:Red Cedar Film Festival
DESCRIPTION:The first annual Red Cedar Film Festival will be held in beautiful downtown Menomonie Wisconsin. Films will be shown in three locations that are within a short walk of each other: - Mabel Tainter Center for the Arts\, a grand historic building built in 1889 - Wilson Park Band Shell\, an outdoor stage with bench and grass seating - Harvey Hall Theatre\, located at University of Wisconsin Stout
X-ALT-DESC;FMTTYPE=text/html:The first annual Red Cedar Film Festival will be held in beautiful downtown Menomonie Wisconsin. Films will be shown in three locations that are within a short walk of each other: - Mabel Tainter Center for the Arts\, a grand historic building built in 1889 - Wilson Park Band Shell\, an outdoor stage with bench and grass seating - Harvey Hall Theatre\, located at University of Wisconsin Stout
LOCATION:
UID:e.64.26415
SEQUENCE:3
DTSTAMP:20260425T195828Z
URL:https://menomonie-gzcms.preview.gochambermaster.com/events/details/red-cedar-film-festival-26415
END:VEVENT

END:VCALENDAR
