BEGIN:VCALENDAR
VERSION:2.0
PRODID:-//ChamberMaster//Event Calendar 2.0//EN
METHOD:PUBLISH
X-PUBLISHED-TTL:P3D
REFRESH-INTERVAL:P3D
CALSCALE:GREGORIAN
BEGIN:VEVENT
DTSTART:20210304T190000Z
DTEND:20210304T193000Z
X-MICROSOFT-CDO-ALLDAYEVENT:FALSE
SUMMARY:Ribbon Cutting - Fire Fitness Camp Menomonie
DESCRIPTION:Celebrate with us... a NEW business in Menomonie! What is Fire Fitness Camp? F.I.R.E. is Functional\, Intensive\, Resistance\, Exercise. A results guaranteed program\, with more documented results than anyone else in the country! Offering professionally coached\, motivated group Personal Training sessions all day long!
X-ALT-DESC;FMTTYPE=text/html:<span style="color: rgb(5\, 5\, 5)\; font-family: &quot\;Segoe UI Historic&quot\;\, &quot\;Segoe UI&quot\;\, Helvetica\, Arial\, sans-serif\; font-size: 15px\;">Celebrate with us... a NEW business in Menomonie! What is Fire Fitness Camp? F.I.R.E. is Functional\, Intensive\, Resistance\, Exercise. A results guaranteed program\, with more documented results than anyone else in the country! Offering professionally coached\, motivated group Personal Training sessions all day long!</span>
LOCATION:Fire Fitness Camp Menomonie 1320 N Broadway St Menomonie WI 54751
UID:e.64.31172
SEQUENCE:3
DTSTAMP:20260424T034501Z
URL:https://menomonie-gzcms.preview.gochambermaster.com/events/details/ribbon-cutting-fire-fitness-camp-menomonie-31172
END:VEVENT

END:VCALENDAR
