BEGIN:VCALENDAR
VERSION:2.0
PRODID:-//ChamberMaster//Event Calendar 2.0//EN
METHOD:PUBLISH
X-PUBLISHED-TTL:P3D
REFRESH-INTERVAL:P3D
CALSCALE:GREGORIAN
BEGIN:VEVENT
DTSTART:20191022T203000Z
DTEND:20191023T000000Z
X-MICROSOFT-CDO-ALLDAYEVENT:FALSE
SUMMARY:River Falls Open House
DESCRIPTION:By listening to local employers and the community\, we discover where the demand is\; then create programs to meet those needs. A career shift can be intimidating\, and that's why we're here to give you resources\, practical experience\, and some well-deserved encouragement that it IS possible to turn a dream job into your day job. We're here to help you. Don't just take our word for it explore programs\, meet instructors\, and check out our renovated campus at the upcoming River Falls Open House. Pre-register to receive a gift upon arrival.
X-ALT-DESC;FMTTYPE=text/html:By listening to local employers and the community\, we discover where the demand is\; then create programs to meet those needs. A career shift can be intimidating\, and that&rsquo\;s why we&rsquo\;re here to give you resources\, practical experience\, and some well-deserved encouragement that it IS possible to turn a dream job into your day job. We&rsquo\;re here to help you. Don&rsquo\;t just take our word for it&ndash\;explore programs\, meet instructors\, and check out our renovated campus at the upcoming River Falls Open House. Pre-register to receive a gift upon arrival.
LOCATION:CVTC River Falls Campus 500 South Wasson Lane River Falls\, WI 54722
UID:e.64.26796
SEQUENCE:3
DTSTAMP:20260425T114932Z
URL:https://menomonie-gzcms.preview.gochambermaster.com/events/details/river-falls-open-house-26796
END:VEVENT

END:VCALENDAR
