BEGIN:VCALENDAR
VERSION:2.0
PRODID:-//ChamberMaster//Event Calendar 2.0//EN
METHOD:PUBLISH
X-PUBLISHED-TTL:P3D
REFRESH-INTERVAL:P3D
CALSCALE:GREGORIAN
BEGIN:VEVENT
DTSTART:20220331T210000Z
DTEND:20220331T230000Z
X-MICROSOFT-CDO-ALLDAYEVENT:FALSE
SUMMARY:Saint Joseph Grade School Round Up Grades 3K\,4K\, K\, 1
DESCRIPTION:Visit our school and meet the teachers. Enjoy coloring\, playing\, and creating. All students going into Pre-K\, K\, and 1 in attendance will receive a free book.
X-ALT-DESC;FMTTYPE=text/html:Visit our school and meet the teachers. Enjoy coloring\, playing\, and creating. All students going into Pre-K\, K\, and 1 in attendance will receive a free book.
LOCATION:910 Wilson Ave\, Menomonie\, WI 54751
UID:e.64.33396
SEQUENCE:3
DTSTAMP:20260422T152811Z
URL:https://menomonie-gzcms.preview.gochambermaster.com/events/details/saint-joseph-grade-school-round-up-grades-3k-4k-k-1-33396
END:VEVENT

END:VCALENDAR
