BEGIN:VCALENDAR
VERSION:2.0
PRODID:-//ChamberMaster//Event Calendar 2.0//EN
METHOD:PUBLISH
X-PUBLISHED-TTL:P3D
REFRESH-INTERVAL:P3D
CALSCALE:GREGORIAN
BEGIN:VEVENT
DTSTART:20200917T230000Z
DTEND:20200918T010000Z
X-MICROSOFT-CDO-ALLDAYEVENT:FALSE
SUMMARY:Septemberfest 2020 at Wilson Creek Inn
DESCRIPTION:Food & Beverage tasting event featuring products from Silver Springs Foods and Bill's Distributing. Proceeds benefit Menomonie Lions Club. Limited to first 50 registrants.
X-ALT-DESC;FMTTYPE=text/html:<span style="color: rgb(111\, 114\, 135)\; font-family: &quot\;Neue Plak&quot\;\, -apple-system\, BlinkMacSystemFont\, Roboto\, &quot\;Helvetica Neue&quot\;\, Helvetica\, Tahoma\, Arial\, sans-serif\; font-size: 16px\; letter-spacing: 0.5px\;">Food &amp\; Beverage tasting event featuring products from Silver Springs Foods and Bill&#39\;s Distributing. Proceeds benefit Menomonie Lions Club. Limited to first 50 registrants.</span>
LOCATION:Wilson Creek Inn 932 N Broadway St Menomonie WI 54751
UID:e.64.30528
SEQUENCE:3
DTSTAMP:20260424T165148Z
URL:https://menomonie-gzcms.preview.gochambermaster.com/events/details/septemberfest-2020-at-wilson-creek-inn-30528
END:VEVENT

END:VCALENDAR
