BEGIN:VCALENDAR
VERSION:2.0
PRODID:-//ChamberMaster//Event Calendar 2.0//EN
METHOD:PUBLISH
X-PUBLISHED-TTL:P3D
REFRESH-INTERVAL:P3D
CALSCALE:GREGORIAN
BEGIN:VEVENT
DTSTART:20220207T140000Z
DTEND:20220429T130000Z
X-MICROSOFT-CDO-ALLDAYEVENT:FALSE
SUMMARY:SHRM-CP/SHRM-SCP Online Certification Prep February 7 - April 29
DESCRIPTION:UW-Stout's online SHRM certification preparation course is designed to provide a structured\, peer and instructor-supported review of the content in the SHRM Body of Competency and Knowledge (BoCK). Participants are guided through the content with a variety of materials and study tools each week.
X-ALT-DESC;FMTTYPE=text/html:UW-Stout&#39\;s online SHRM certification preparation course is designed to provide a structured\, peer and instructor-supported review of the content in the SHRM Body of Competency and Knowledge (BoCK). Participants are guided through the content with a variety of materials and study tools each week.
LOCATION:This course is being conducted online.
UID:e.64.33262
SEQUENCE:3
DTSTAMP:20260422T080005Z
URL:https://menomonie-gzcms.preview.gochambermaster.com/events/details/shrm-cp-shrm-scp-online-certification-prep-february-7-april-29-33262
END:VEVENT

END:VCALENDAR
